BEGIN:VCALENDAR
VERSION:2.0
PRODID:-// - ECPv4.2.7//NONSGML v1.0//EN
CALSCALE:GREGORIAN
METHOD:PUBLISH
X-WR-CALNAME:
X-ORIGINAL-URL:http://amicsdelteatre.cat
X-WR-CALDESC:Events for 
BEGIN:VEVENT
DTSTART;VALUE=DATE:20170423
DTEND;VALUE=DATE:20170423
DTSTAMP:20260424T172617
CREATED:20170414
LAST-MODIFIED:20170414
UID:774-1492905600-1492991999@amicsdelteatre.cat
SUMMARY:Sant Jordi 2017
DESCRIPTION:\n\tAquest 23 de abril de 2017 amics  teatre  farà la representació de la llegenda de Sant Jordi! Les representacions seran a les 11:30 \, 12:30 i 13:30\n\n\n\n\tEntrada gratuïta!!\n\n\n\n\tT’ho perdràs?\n\n
URL:http://amicsdelteatre.cat/event/sant-jordi-2017/
LOCATION:Rambla Sant Jordi\, 9\, Ripollet\, Barcelona\, 08290\, Espanya
ATTACH;FMTTYPE=image/png:http://amicsdelteatre.cat/wp-content/uploads/2017/04/Sant-jordi.png
ORGANIZER;CN="Amics%20del%20teatre%20de%20Ripollet":MAILTO:info@amicsdeltratre,cat
END:VEVENT
END:VCALENDAR