BEGIN:VCALENDAR
VERSION:2.0
PRODID:-// - ECPv4.2.7//NONSGML v1.0//EN
CALSCALE:GREGORIAN
METHOD:PUBLISH
X-WR-CALNAME:
X-ORIGINAL-URL:http://amicsdelteatre.cat
X-WR-CALDESC:Events for 
BEGIN:VEVENT
DTSTART;TZID=Europe/Madrid:20170225T173000
DTEND;TZID=Europe/Madrid:20170225T183000
DTSTAMP:20260424T172646
CREATED:20170204T160718
LAST-MODIFIED:20170204T173412
UID:745-1488043800-1488047400@amicsdelteatre.cat
SUMMARY:CARNESTOLTES 2017
DESCRIPTION:\n\tAquest any amics del teatre de Ripollet participarà a la rua organitzada per carnestoltes a Ripollet el dia 25 de febrer de 2017. \n\n\n\n\tLa rua començarà a les 17.30 al Carrer Sarrià de Ter i acabarà a la Rambla pinetons.\n\n\n\n\tSi vols saber de que serà la nostra comparsa vine’t a la rua. T'hi esperem!\n\n
URL:http://amicsdelteatre.cat/event/carnestoltes-2017/
LOCATION:Carrer Sarrià de Ter\, Ripollet\, Barcelona\, 08291\, Espanya
ATTACH;FMTTYPE=image/jpeg:http://amicsdelteatre.cat/wp-content/uploads/2017/02/requetedefi.jpg
END:VEVENT
END:VCALENDAR