BEGIN:VCALENDAR
VERSION:2.0
PRODID:-// - ECPv4.2.7//NONSGML v1.0//EN
CALSCALE:GREGORIAN
METHOD:PUBLISH
X-WR-CALNAME:
X-ORIGINAL-URL:http://amicsdelteatre.cat
X-WR-CALDESC:Events for 
BEGIN:VEVENT
DTSTART;VALUE=DATE:20170717
DTEND;VALUE=DATE:20180717
DTSTAMP:20260424T174449
CREATED:20170717
LAST-MODIFIED:20170717
UID:791-1500249600-1531871999@amicsdelteatre.cat
SUMMARY:AQUESTA FESTA MAJOR\, NO OFERIREM OBRA!
DESCRIPTION:\n\tAquest any\, per motius alients a la companyia\, no podem oferir l'obra que teniem prevista. Disculpeu les molèsties i en breu us informarem dels canvis previstos per aquesta temporada. \n\n
URL:http://amicsdelteatre.cat/event/aquesta-festa-major-no-tenim-obra/
END:VEVENT
END:VCALENDAR